BEGIN:VCALENDAR
VERSION:2.0
PRODID:-//Swimming Wide Bay - ECPv6.15.20//NONSGML v1.0//EN
CALSCALE:GREGORIAN
METHOD:PUBLISH
X-WR-CALNAME:Swimming Wide Bay
X-ORIGINAL-URL:https://swimmingwidebay.org.au
X-WR-CALDESC:Events for Swimming Wide Bay
REFRESH-INTERVAL;VALUE=DURATION:PT1H
X-Robots-Tag:noindex
X-PUBLISHED-TTL:PT1H
BEGIN:VTIMEZONE
TZID:Australia/Brisbane
BEGIN:STANDARD
TZOFFSETFROM:+1000
TZOFFSETTO:+1000
TZNAME:AEST
DTSTART:20240101T000000
END:STANDARD
END:VTIMEZONE
BEGIN:VEVENT
DTSTART;TZID=Australia/Brisbane:20250719T180000
DTEND;TZID=Australia/Brisbane:20250721T030000
DTSTAMP:20260420T211449
CREATED:20250421T090834Z
LAST-MODIFIED:20250422T092209Z
UID:7604-1752948000-1753066800@swimmingwidebay.org.au
SUMMARY:2025 Wide Bay Short Course Championships
DESCRIPTION:Information coming shortly
URL:https://swimmingwidebay.org.au/event/2025-wide-bay-short-course-championships/
LOCATION:St Andrew’s Aquatic Centre\, 40 Peregian Springs Drive\, Peregian Springs\, QLD\, 4573\, Australia
CATEGORIES:Regional Championships
ATTACH;FMTTYPE=image/png:https://swimmingwidebay.org.au/wp-content/uploads/2025/07/2025-SWB-SC-Champs-Square.png
ORGANIZER;CN="Wide Bay Regional Swimming Association Inc.":MAILTO:hello@widebayswimming.org.au
END:VEVENT
END:VCALENDAR